BEGIN:VCALENDAR
VERSION:2.0
PRODID:-//Tukios.com/
BEGIN:VEVENT
UID:16930ec3-c625-4e1b-ab43-e2df95cfafd5@www.heritagefuneralhomeofthebigbend.com
DTSTAMP:20260424T031933Z
DTSTART:20260425T160000Z
DTEND:20260425T170000Z
SUMMARY:Memorial Service
DESCRIPTION:
URL:https://www.heritagefuneralhomeofthebigbend.com/obituaries/alfred-gosselin
LOCATION:Heritage Funeral Home of the Big Bend Chapel  301 N. Main St. 
	Address 2 Fort Stockton TX 79735
GEO:30.8874427;-102.8794818
END:VEVENT
END:VCALENDAR